BEGIN:VCALENDAR
VERSION:2.0
PRODID:-//Chemical Allied Industries Association 2025 - ECPv6.15.20//NONSGML v1.0//EN
CALSCALE:GREGORIAN
METHOD:PUBLISH
X-WR-CALNAME:Chemical Allied Industries Association 2025
X-ORIGINAL-URL:https://www.caia.co.za
X-WR-CALDESC:Events for Chemical Allied Industries Association 2025
REFRESH-INTERVAL;VALUE=DURATION:PT1H
X-Robots-Tag:noindex
X-PUBLISHED-TTL:PT1H
BEGIN:VTIMEZONE
TZID:Africa/Windhoek
BEGIN:STANDARD
TZOFFSETFROM:+0200
TZOFFSETTO:+0200
TZNAME:CAT
DTSTART:20240101T000000
END:STANDARD
END:VTIMEZONE
BEGIN:VEVENT
DTSTART;TZID=Africa/Windhoek:20250904T100000
DTEND;TZID=Africa/Windhoek:20250904T120000
DTSTAMP:20260420T120256
CREATED:20250812T151410Z
LAST-MODIFIED:20250822T100420Z
UID:5440-1756980000-1756987200@www.caia.co.za
SUMMARY:WEBINAR | Biodiversity #2
DESCRIPTION:CAIA invites you to the second biodiversity webinar that builds on from the introductory webinar held on 6 May 2025\, where the benefits of a healthy biodiversity that is well managed will be presented. \nThe South African National Biodiversity Institute (SANBI) will be presenting on their work to create tools and information resources used to guide policy and how biodiversity management is one factor for economic development. Mainstreaming biodiversity ensures that addressing development needs and protecting the environment is not an either-or situation\, but rather that development is supported by the sustainable use of natural resources. \nPresentations will also be made by two of CAIA’s members that have successfully mainstreamed biodiversity into their day-to-day operations to demonstrate how this was achieved.
URL:https://www.caia.co.za/event/webinar-biodiversity-2/
LOCATION:Online
CATEGORIES:Webinar
END:VEVENT
END:VCALENDAR